BEGIN:VCALENDAR
VERSION:2.0
PRODID:-//Dogtown Floyd, VA - ECPv6.15.20//NONSGML v1.0//EN
CALSCALE:GREGORIAN
METHOD:PUBLISH
X-ORIGINAL-URL:https://dogtownroadhouse.com
X-WR-CALDESC:Events for Dogtown Floyd, VA
REFRESH-INTERVAL;VALUE=DURATION:PT1H
X-Robots-Tag:noindex
X-PUBLISHED-TTL:PT1H
BEGIN:VTIMEZONE
TZID:America/New_York
BEGIN:DAYLIGHT
TZOFFSETFROM:-0500
TZOFFSETTO:-0400
TZNAME:EDT
DTSTART:20230312T070000
END:DAYLIGHT
BEGIN:STANDARD
TZOFFSETFROM:-0400
TZOFFSETTO:-0500
TZNAME:EST
DTSTART:20231105T060000
END:STANDARD
BEGIN:DAYLIGHT
TZOFFSETFROM:-0500
TZOFFSETTO:-0400
TZNAME:EDT
DTSTART:20240310T070000
END:DAYLIGHT
BEGIN:STANDARD
TZOFFSETFROM:-0400
TZOFFSETTO:-0500
TZNAME:EST
DTSTART:20241103T060000
END:STANDARD
BEGIN:DAYLIGHT
TZOFFSETFROM:-0500
TZOFFSETTO:-0400
TZNAME:EDT
DTSTART:20250309T070000
END:DAYLIGHT
BEGIN:STANDARD
TZOFFSETFROM:-0400
TZOFFSETTO:-0500
TZNAME:EST
DTSTART:20251102T060000
END:STANDARD
END:VTIMEZONE
BEGIN:VEVENT
DTSTART;TZID=America/New_York:20241123T200000
DTEND;TZID=America/New_York:20241123T200000
DTSTAMP:20260421T045057
CREATED:20241025T182423Z
LAST-MODIFIED:20241122T142722Z
UID:10634-1732392000-1732392000@dogtownroadhouse.com
SUMMARY:JP Harris
DESCRIPTION:**TICKET SHOW – Get yours before they sell out** \nCountry traditionalist JP Harris is hitting the road hard this fall for his Bloodshot Records debut\, JP Harris Is A Trash Fire\, produced by JD McPherson. Harris is also respected fixture of several scenes around his adopted hometown of Nashville\, TN — you can find him working on Nashville’s historic homes\, riding and fixing old motorcycles\, or picking through scrap piles for useable refuse. In a musical landscape of period-correct reproduction\, “outlaw” internet posturing\, and flavor-of-the-month variants on country\, JP Harris Is A Trash Fire burns bright as a dumpster in a Walmart parking lot on a moonless night; some will fear it\, some will gravitate to its acrid warmth\, and most will have no idea what to make of the situation. \nJP’s historic restoration carpentry has continued to be a baseline for his relationship to music; the yin to his yang\, the Burt to his Ernie\, the Dolly to his Porter. It was through this concurrent line of work that he met another twice-initialed singer with a penchant for old Americana music\, obscure film\, and overly elaborate ethnic meal preparations: one JD McPherson. The two became fast friends and would eventually\, through many twists\, turns\, false starts\, and biblically-proportionate plagues\, enter a modest studio in Nashville to record JP Harris Is A Trash Fire. \nOver the course of nine months in 2023\, they recorded a sometimes lush\, sometimes sparse\, and sometimes jarring country album of Harris’ originals\, loudly and violently squelching any attempt to pigeon-hole a song into any subgenre of country music. Only albums by Lee Hazelwood and an obscure folk album Waylon Jennings made when his hair was still short were allowed to be mentioned in reference. Featuring the guest vocals of Erin Rae\, The Watson Twins\, Shovels & Rope\, and producer JD McPherson himself\, the record is equal parts satire\, reflection\, and apology to those that would listen. \nALBUM:  JP Harris Is A Trash Fire \nJP Harris Official Website \nJP Harris Facebook \nJP Harris Instagram \nJP Harris Twitter \n••• \n**TICKET SHOW** \n$18 (+fees) GA ticket early bird pricing through 11/22 at 11:59pm. \n$20 (+fees) GA tickets on the day of 11/23 at the door only. \nDoors: 7pm || Show: 8pm \nTickets are non-refundable. All sales are final. Click here for more info.
URL:https://dogtownroadhouse.com/event/jp-harris/
LOCATION:Dogtown Roadhouse\, 302 S Locust St\, Floyd\, VA\, 24091\, United States
CATEGORIES:Event Tickets,Events
ATTACH;FMTTYPE=image/jpeg:https://dogtownroadhouse.com/wp-content/uploads/2024/10/dogtown-roadhouse-live-music-jp-harris-2.jpg
END:VEVENT
END:VCALENDAR