BEGIN:VCALENDAR
VERSION:2.0
PRODID:-//Dogtown Floyd, VA - ECPv6.15.20//NONSGML v1.0//EN
CALSCALE:GREGORIAN
METHOD:PUBLISH
X-WR-CALNAME:Dogtown Floyd, VA
X-ORIGINAL-URL:https://dogtownroadhouse.com
X-WR-CALDESC:Events for Dogtown Floyd, VA
REFRESH-INTERVAL;VALUE=DURATION:PT1H
X-Robots-Tag:noindex
X-PUBLISHED-TTL:PT1H
BEGIN:VTIMEZONE
TZID:America/New_York
BEGIN:DAYLIGHT
TZOFFSETFROM:-0500
TZOFFSETTO:-0400
TZNAME:EDT
DTSTART:20230312T070000
END:DAYLIGHT
BEGIN:STANDARD
TZOFFSETFROM:-0400
TZOFFSETTO:-0500
TZNAME:EST
DTSTART:20231105T060000
END:STANDARD
BEGIN:DAYLIGHT
TZOFFSETFROM:-0500
TZOFFSETTO:-0400
TZNAME:EDT
DTSTART:20240310T070000
END:DAYLIGHT
BEGIN:STANDARD
TZOFFSETFROM:-0400
TZOFFSETTO:-0500
TZNAME:EST
DTSTART:20241103T060000
END:STANDARD
BEGIN:DAYLIGHT
TZOFFSETFROM:-0500
TZOFFSETTO:-0400
TZNAME:EDT
DTSTART:20250309T070000
END:DAYLIGHT
BEGIN:STANDARD
TZOFFSETFROM:-0400
TZOFFSETTO:-0500
TZNAME:EST
DTSTART:20251102T060000
END:STANDARD
END:VTIMEZONE
BEGIN:VEVENT
DTSTART;TZID=America/New_York:20240504T190000
DTEND;TZID=America/New_York:20240504T190000
DTSTAMP:20260423T125214
CREATED:20240404T150114Z
LAST-MODIFIED:20240404T151403Z
UID:10103-1714849200-1714849200@dogtownroadhouse.com
SUMMARY:EarthKry & more - A Sky High Reggae Event
DESCRIPTION:**Ticket Event** \nEarthKry with Father Sun & DJ Ruby Star \nCLICK HERE FOR TICKETS \nWe are proud to bring EarthKry to the Dogtown stage. They have toured extensively on some of the biggest international reggae events. This phenomenal band was born and nurtured within the halls of the Edna Manley College of The Visual & Performing Arts in Kingston\, Jamaica where the four budding musicians honed their skills. The band has released a successful debut EP Hard Road\, an acclaimed worldwide top charting debut album Survival and their newest Dandy Shandy through the guidance of veteran drummer / lecturer Derrick Stewart\, veteran trumpeter Nambo Robinson\, guitarist / former tutor Maurice Gordon and producers Stephen Stewart and Sam Clayton. EarthKry are on a mission to voice the grievances of the downtrodden through the vibrations of their legacy music. Since 2013 the band has spent much of their time creating with other notable artists in recording sessions while further developing their signature sound. \n••• \nWe have paired them with our 2024 featured local artist Father Sun. This talented band embodies the true spirit of reggae with a blend of experienced artistry and youthful energy. Janiah Allen is a seasoned musician known for his collaborations with ALLiENS\, Music Road Co\, Solazo\, Sol Roots\, The Ambassador and more. Alongside Janiah is his son Nyo Allen whose exceptional drumming skills bring life to Father Sun’s beats. Janiah & Nyo’s original compositions are rooted in reggae traditions and infused with modern creativity. They are joined by Jamiel Allen (keys) and Zeph Allen (guitar)\, also original founding members of ALLiENS\, whose melodic prowess adds depth and dimension to their music. Their performances are not mere musical exhibitions; they are heartfelt celebrations of life and the universal language of music. Join Father Sun on their musical odyssey where the essence of reggae is embraced and shared\, connecting souls and spreading positivity wherever their music is heard.\nKicking things off will be Sky High Reggae and ArkLight Sound System member DJ Ruby Star. Selectress Ruby Star has been carefully curating and spinning high-grade Roots Reggae & Dub music for over twenty years. She is also co owner of Sky High Reggae – a US based promotion / production company. \n**Ticket Event** \n$20 advance/$25 door \nDoors at 7pm \nCLICK HERE FOR TICKETS
URL:https://dogtownroadhouse.com/event/earthkry-more-a-sky-high-reggae-event/
LOCATION:Dogtown Roadhouse\, 302 S Locust St\, Floyd\, VA\, 24091\, United States
CATEGORIES:Event Tickets,Events
ATTACH;FMTTYPE=image/png:https://dogtownroadhouse.com/wp-content/uploads/2024/04/dogtown-roadhouse-live-music-earthkry-father-sun-sky-high-reggae-1.png
ORGANIZER;CN="Sky High Reggae":MAILTO:skyhighreggae@gmail.com
END:VEVENT
END:VCALENDAR