BEGIN:VCALENDAR
VERSION:2.0
PRODID:-//Dogtown Floyd, VA - ECPv6.15.20//NONSGML v1.0//EN
CALSCALE:GREGORIAN
METHOD:PUBLISH
X-WR-CALNAME:Dogtown Floyd, VA
X-ORIGINAL-URL:https://dogtownroadhouse.com
X-WR-CALDESC:Events for Dogtown Floyd, VA
REFRESH-INTERVAL;VALUE=DURATION:PT1H
X-Robots-Tag:noindex
X-PUBLISHED-TTL:PT1H
BEGIN:VTIMEZONE
TZID:America/New_York
BEGIN:DAYLIGHT
TZOFFSETFROM:-0500
TZOFFSETTO:-0400
TZNAME:EDT
DTSTART:20230312T070000
END:DAYLIGHT
BEGIN:STANDARD
TZOFFSETFROM:-0400
TZOFFSETTO:-0500
TZNAME:EST
DTSTART:20231105T060000
END:STANDARD
BEGIN:DAYLIGHT
TZOFFSETFROM:-0500
TZOFFSETTO:-0400
TZNAME:EDT
DTSTART:20240310T070000
END:DAYLIGHT
BEGIN:STANDARD
TZOFFSETFROM:-0400
TZOFFSETTO:-0500
TZNAME:EST
DTSTART:20241103T060000
END:STANDARD
BEGIN:DAYLIGHT
TZOFFSETFROM:-0500
TZOFFSETTO:-0400
TZNAME:EDT
DTSTART:20250309T070000
END:DAYLIGHT
BEGIN:STANDARD
TZOFFSETFROM:-0400
TZOFFSETTO:-0500
TZNAME:EST
DTSTART:20251102T060000
END:STANDARD
END:VTIMEZONE
BEGIN:VEVENT
DTSTART;TZID=America/New_York:20240420T200000
DTEND;TZID=America/New_York:20240420T200000
DTSTAMP:20260423T142010
CREATED:20240201T173104Z
LAST-MODIFIED:20240201T190016Z
UID:9813-1713643200-1713643200@dogtownroadhouse.com
SUMMARY:The Dead Reckoning
DESCRIPTION:**Ticket Event** \nNow you KNOW this 4/20 is going to be one to remember! Come join us\, friends! \n••• \nThe Dead Reckoning is a collaborative of seasoned players hailing from the Blue Ridge region of VA. Having many varied backgrounds\, they come together to celebrate the music\, legacy\, eras and iterations of the most prolific band in history\, The Grateful Dead. With a Jerry Garcia Band tune thrown in here and there for good measure. \nThe band features members of regional favorites The Floorboards\, Mad Iguanas\, Electric Chameleon\, Ripejive\, Sol Creech Band\, Nicholson Brothers\, and others. TDR strives for accuracy\, and to capture the vibe and energy of a live Dead performance. They play with devotion and love in their hearts\, as the music means as much to them as it does to you. \nCome dance and shake your bones. \n••• \n**Ticket Event** \n$21 GA ticket early bird pricing through 4/19 at 11:59pm. \n$26 GA tickets on the day of 4/20 at the door only. \nDoors: 7pm || Show: 8pm \nTable tickets available (limited quantity). \nTickets are non-refundable. All sales are final. Click here for more info.
URL:https://dogtownroadhouse.com/event/the-dead-reckoning-420/
LOCATION:Dogtown Roadhouse\, 302 S Locust St\, Floyd\, VA\, 24091\, United States
CATEGORIES:Event Tickets,Events
ATTACH;FMTTYPE=image/jpeg:https://dogtownroadhouse.com/wp-content/uploads/2024/01/dogtown-roadhouse-live-music-the-dead-reckoning.jpg
END:VEVENT
END:VCALENDAR