BEGIN:VCALENDAR
VERSION:2.0
PRODID:-//Dogtown Floyd, VA - ECPv6.15.20//NONSGML v1.0//EN
CALSCALE:GREGORIAN
METHOD:PUBLISH
X-ORIGINAL-URL:https://dogtownroadhouse.com
X-WR-CALDESC:Events for Dogtown Floyd, VA
REFRESH-INTERVAL;VALUE=DURATION:PT1H
X-Robots-Tag:noindex
X-PUBLISHED-TTL:PT1H
BEGIN:VTIMEZONE
TZID:America/New_York
BEGIN:DAYLIGHT
TZOFFSETFROM:-0500
TZOFFSETTO:-0400
TZNAME:EDT
DTSTART:20230312T070000
END:DAYLIGHT
BEGIN:STANDARD
TZOFFSETFROM:-0400
TZOFFSETTO:-0500
TZNAME:EST
DTSTART:20231105T060000
END:STANDARD
BEGIN:DAYLIGHT
TZOFFSETFROM:-0500
TZOFFSETTO:-0400
TZNAME:EDT
DTSTART:20240310T070000
END:DAYLIGHT
BEGIN:STANDARD
TZOFFSETFROM:-0400
TZOFFSETTO:-0500
TZNAME:EST
DTSTART:20241103T060000
END:STANDARD
BEGIN:DAYLIGHT
TZOFFSETFROM:-0500
TZOFFSETTO:-0400
TZNAME:EDT
DTSTART:20250309T070000
END:DAYLIGHT
BEGIN:STANDARD
TZOFFSETFROM:-0400
TZOFFSETTO:-0500
TZNAME:EST
DTSTART:20251102T060000
END:STANDARD
END:VTIMEZONE
BEGIN:VEVENT
DTSTART;TZID=America/New_York:20240217T190000
DTEND;TZID=America/New_York:20240217T190000
DTSTAMP:20260423T163742
CREATED:20240115T235840Z
LAST-MODIFIED:20240116T000854Z
UID:9766-1708196400-1708196400@dogtownroadhouse.com
SUMMARY:Bob Marley Birthday w/ Mighty Mystic & Friends
DESCRIPTION:**Ticket Event** \nCLICK HERE FOR TICKETS \nBob Marley Birthday with Mighty Mystic & Friends \nSky High Reggae Presents: a stellar evening of roots reggae music with Mighty Mystic – Liontracks Reggae Band – DJ Ruby Star. \nFebruary is Birthday month for roots reggae and human rights activist Bob Marley. Sky High is delighted to host Mighty Mystic on his Celebration Tour. DJ Ruby Star (roots reggae and dub Selectress) kicks off the festivities opening for Winston Salem’s finest Liontracks Reggae Band. Mighty Mystic is a performer that you do not want to miss when he rolls through Dogtown Roadhouse in Floyd VA. This powerhouse performer and his band are all talent and soul. See you soon. \nCLICK HERE FOR TICKETS
URL:https://dogtownroadhouse.com/event/bob-marley-birthday-w-mighty-mystic-friends/
LOCATION:Dogtown Roadhouse\, 302 S Locust St\, Floyd\, VA\, 24091\, United States
CATEGORIES:Event Tickets,Events
ATTACH;FMTTYPE=image/jpeg:https://dogtownroadhouse.com/wp-content/uploads/2024/01/dogtown-roadhouse-live-music-bob-marley-mighty-mystic.jpg
ORGANIZER;CN="Sky High Reggae":MAILTO:skyhighreggae@gmail.com
END:VEVENT
END:VCALENDAR