BEGIN:VCALENDAR
VERSION:2.0
PRODID:-//Dogtown Floyd, VA - ECPv6.15.20//NONSGML v1.0//EN
CALSCALE:GREGORIAN
METHOD:PUBLISH
X-ORIGINAL-URL:https://dogtownroadhouse.com
X-WR-CALDESC:Events for Dogtown Floyd, VA
REFRESH-INTERVAL;VALUE=DURATION:PT1H
X-Robots-Tag:noindex
X-PUBLISHED-TTL:PT1H
BEGIN:VTIMEZONE
TZID:America/New_York
BEGIN:DAYLIGHT
TZOFFSETFROM:-0500
TZOFFSETTO:-0400
TZNAME:EDT
DTSTART:20220313T070000
END:DAYLIGHT
BEGIN:STANDARD
TZOFFSETFROM:-0400
TZOFFSETTO:-0500
TZNAME:EST
DTSTART:20221106T060000
END:STANDARD
BEGIN:DAYLIGHT
TZOFFSETFROM:-0500
TZOFFSETTO:-0400
TZNAME:EDT
DTSTART:20230312T070000
END:DAYLIGHT
BEGIN:STANDARD
TZOFFSETFROM:-0400
TZOFFSETTO:-0500
TZNAME:EST
DTSTART:20231105T060000
END:STANDARD
BEGIN:DAYLIGHT
TZOFFSETFROM:-0500
TZOFFSETTO:-0400
TZNAME:EDT
DTSTART:20240310T070000
END:DAYLIGHT
BEGIN:STANDARD
TZOFFSETFROM:-0400
TZOFFSETTO:-0500
TZNAME:EST
DTSTART:20241103T060000
END:STANDARD
BEGIN:DAYLIGHT
TZOFFSETFROM:-0500
TZOFFSETTO:-0400
TZNAME:EDT
DTSTART:20250309T070000
END:DAYLIGHT
BEGIN:STANDARD
TZOFFSETFROM:-0400
TZOFFSETTO:-0500
TZNAME:EST
DTSTART:20251102T060000
END:STANDARD
END:VTIMEZONE
BEGIN:VEVENT
DTSTART;TZID=America/New_York:20231231T200000
DTEND;TZID=America/New_York:20240101T010000
DTSTAMP:20260423T174400
CREATED:20231116T142338Z
LAST-MODIFIED:20231215T183416Z
UID:9278-1704052800-1704070800@dogtownroadhouse.com
SUMMARY:NYE PARTY! Music Road Co + ALLiENS & MORE!!
DESCRIPTION:**Ticket Event** Table tickets available. GA ticket early bird pricing through 12/30 at 11:59pm \nMOVE with us into 2024 with this multi-act NYE extravaganza!  \nThis is a special evening with Music Road Co & AlliensPLUS special performances by Father Sun\,  Sarai Sibéal\, and Zeph! \nComplimentary Champagne Toast at Midnight!\n			\n			\n				\n				\n				\n				\n			\n				\n				\n				\n				\n				\n				\n				\n				\n				\n				\n				Music Road Co\n			\n			\n				\n				\n				\n				\n			\n				\n				\n				\n				\n				\n				\n				\n				\n				\n				\n				\n			\n			\n				\n				\n				\n				\n				\n				\n				\n				\n				\n				A powerhouse band known for its dynamic stage presence and a focus on vibrant dance music that feels good and spreads positive vibes. With a world-beat approach\, the band brings together a collective of accomplished musicians to create original music with a fusion of genres including funk\, rock\, island reggae\, afrobeat\, & Latin tunes. This project digs through a wide and deep catalog of tunes and musical traditions to get you groovin’ and your hip bones movin’!! \n			\n			\n				\n				\n				\n				\n			\n				\n				\n				\n				\n				\n				\n				\n				\n				\n				\n				Where does Music Road Co find its inspiration? And why does it connect so perfectly with audiences of all ages and backgrounds? The answer might lie in their widespread roots. Coming from such diverse places as South Africa\, Ecuador\, Cuba\, Key West\, Maryland\, New York\, and Virginia\, the band brings many cultural influences together to produce music without boundaries. \nThe band’s rhythm section is made up of expert musicians\, with a driving bass line that anchors each song and propels the audience to move. The percussion adds depth and texture to the sound\, incorporating traditional rhythms and intricate beats that keep the audience engaged. The horn section is a standout feature\, adding rich layers of melody and harmony that are both soulful and powerful. The guitar & keys are equally impressive\, with electrifying solos and grooving rhythms that showcase the band’s versatility. \nMRCO has opened for chart-topping Michael Franti & Spearhead at Rocky Mount’s Harvester Performance Center and for The Original Wailers at Roanoke’s Elmwood Park amphitheater. They regularly perform at regional venues\, community gatherings and festivals\, including Floydfest for several consecutive years. \nMusic Road Co is bound together by one common ideal: Music should feel good and spread positive vibes. They get on stage to lift themselves up to a higher frequency and they won’t stop until they bring the entire audience with them! \n			\n			\n				\n				\n				\n				\n			\n				\n				\n				\n				\n				\n				\n				\n				\n				\n				\n				Alliens (pronounced Alley-ins)\n			\n			\n				\n				\n				\n				\n			\n				\n				\n				\n				\n				\n				\n				\n				\n				\n				\n				\n			\n			\n				\n				\n				\n				\n				\n				\n				\n				\n				\n				Many of us recall Alliens’ memorable performances at FloydFest between 2007-2011 & especially the late-night after party to close out the festival each year. They also brought their infectious Caribbean-Fun & World Groove sound to regional festivals in the NRV & Roanoke Areas in additional to annual tours down to Key West & back during those years. Now\, for the first time in 10 years\, they are finally coming back together to share their talent & music with us again! \nAlliens is a powerful caribbean-funk\, world groove sensation led by brothers Jamiel and Janiah Allen along with cousin Zeph Allen\, merges diverse world rhythms into a magnetic musical tapestry. With Cameron McLaughlin on bass and Nyo Allen on percussion\, the band effortlessly blends rock\, reggae\, funk\, ska\, Caribbean soca\, electronica\, cumbia\, and more\, creating an infectious sound that defies borders. Their music carries a powerful message: forget your differences and dance! \n			\n			\n				\n				\n				\n				\n			\n				\n				\n				\n				\n				\n				\n				\n				\n				\n				\n				Through multilingual lyrics and harmonies\, Alliens invites listeners to connect deeply. On stage\, they craft an electrifying atmosphere\, celebrating shared humanity and promoting love\, understanding\, and acceptance. Alliens’ music isn’t just a performance; it’s a transformative experience\, urging audiences to surrender to the universal groove that unites us all. \n			\n			\n				\n				\n				\n				\n			\n				\n				\n				\n				\n				\n				\n				\n				\n				\n				\n				Father Sun\n			\n			\n				\n				\n				\n				\n			\n				\n				\n				\n				\n				\n				\n				\n				\n				\n				\n				\n			\n			\n				\n				\n				\n				\n				\n				\n				\n				\n				\n				Father Sun embodies the true spirit of reggae with a blend of experienced artistry and youthful energy. Laying the bassline of this musical journey is Janiah Allen\, a seasoned musician known for his collaborations with Alliens\, Music Road Co\, Solazo\, Jordan Harman & the Humble Brags\, Sol Roots and The Ambassador. \nAlongside Janiah is his son\, Nyo Allen\, whose exceptional drumming skills bring life to Father Sun’s beats. From an early age\, Nyo developed a love for rhythm\, and he lays down a solid foundation for the band. \n			\n			\n				\n				\n				\n				\n			\n				\n				\n				\n				\n				\n				\n				\n				\n				\n				\n				Janiah & Nyo’s original compositions are rooted in reggae traditions and infused with modern creativity. They are joined by guitarist Aram Skenderian\, whose melodic prowess adds depth and dimension to their music. \nFather Sun’s repertoire encompasses reggae covers and original compositions\, each note carrying the authentic vibe of the genre. Their performances are not mere musical exhibitions; they are heartfelt celebrations of life and the universal language of music. Join Father Sun on their musical odyssey\, where the essence of reggae is embraced and shared\, connecting soul and spreading positivity wherever their music is heard. \n			\n			\n				\n				\n				\n				\n			\n				\n				\n				\n				\n				\n				\n				\n				\n				\n				\n				Sarai Sibéal\n			\n			\n				\n				\n				\n				\n			\n				\n				\n				\n				\n				\n				\n				\n				\n				\n				\n				\n			\n			\n				\n				\n				\n				\n				\n				\n				\n				\n				\n				Sarah Bowles\, also known as Sarai Sibéal\, is a native Roanoker. She is a singer/songwriter and producer whose music combines electro-soul elements with R&B\, & world music. Sarah and Jamiel Allen co-produced her debut album\, Taboo (Tapua) that released November 11th. Jamiel also composed the majority of the music and mixed the final product.  \n			\n			\n				\n				\n				\n				\n			\n				\n				\n				\n				\n				\n				\n				\n				\n				\n				\n				Willis Greenstreet\, Sam Lunsford\, Matthew Bowles\, and Cameron McLaughlin can be heard playing and or singing back-ups. The song “Secrets” features local poet Ashley Rhame’s original work. All the songs on the album were written between 2015-2022. \nMore on Sarai Sibeal: Instagram  |. Spotify \n			\n			\n				\n				\n				\n				\n			\n				\n				\n				\n				\n				\n				\n				\n				\n				\n				\n				Zeph\n			\n			\n				\n				\n				\n				\n			\n				\n				\n				\n				\n				\n				\n				\n				\n				\n				\n				\n			\n			\n				\n				\n				\n				\n				\n				\n				\n				\n				\n				At the start of the night\, Zeph Allen will sing a few songs with his acoustic guitar. From fantastical fiction to deeply personal reflection\, nothing is off limits when he sings his originals. You might remember him from his years with the Alliens. If not\, we’re sure you’ll love a few minutes with his unique perspective and word play. You might even be inspired to make your resolutions before kicking off the dance party! \n			\n			\n				\n				\n				\n				\n			\n				\n				\n				\n				\n				\n				\n				\n				\n				\n				\n				~~~\nComplimentary Champagne Toast at Midnight!\n**Ticket Event** \nTable tickets available. GA ticket early bird pricing through 12/30 at 11:59pm \nTickets are non-refundable. All sales are final. See info here.
URL:https://dogtownroadhouse.com/event/dt-nye-2023/
LOCATION:Dogtown Roadhouse\, 302 S Locust St\, Floyd\, VA\, 24091\, United States
CATEGORIES:Event Tickets,Events
ATTACH;FMTTYPE=image/jpeg:https://dogtownroadhouse.com/wp-content/uploads/2023/11/dogtown-roadhouse-live-music-New-Years-Eve-Music-Road-Co-Alliens-2.jpg
END:VEVENT
END:VCALENDAR