BEGIN:VCALENDAR
VERSION:2.0
PRODID:-//Dogtown Floyd, VA - ECPv6.15.20//NONSGML v1.0//EN
CALSCALE:GREGORIAN
METHOD:PUBLISH
X-WR-CALNAME:Dogtown Floyd, VA
X-ORIGINAL-URL:https://dogtownroadhouse.com
X-WR-CALDESC:Events for Dogtown Floyd, VA
REFRESH-INTERVAL;VALUE=DURATION:PT1H
X-Robots-Tag:noindex
X-PUBLISHED-TTL:PT1H
BEGIN:VTIMEZONE
TZID:America/New_York
BEGIN:DAYLIGHT
TZOFFSETFROM:-0500
TZOFFSETTO:-0400
TZNAME:EDT
DTSTART:20200308T070000
END:DAYLIGHT
BEGIN:STANDARD
TZOFFSETFROM:-0400
TZOFFSETTO:-0500
TZNAME:EST
DTSTART:20201101T060000
END:STANDARD
BEGIN:DAYLIGHT
TZOFFSETFROM:-0500
TZOFFSETTO:-0400
TZNAME:EDT
DTSTART:20210314T070000
END:DAYLIGHT
BEGIN:STANDARD
TZOFFSETFROM:-0400
TZOFFSETTO:-0500
TZNAME:EST
DTSTART:20211107T060000
END:STANDARD
BEGIN:DAYLIGHT
TZOFFSETFROM:-0500
TZOFFSETTO:-0400
TZNAME:EDT
DTSTART:20220313T070000
END:DAYLIGHT
BEGIN:STANDARD
TZOFFSETFROM:-0400
TZOFFSETTO:-0500
TZNAME:EST
DTSTART:20221106T060000
END:STANDARD
END:VTIMEZONE
BEGIN:VEVENT
DTSTART;TZID=America/New_York:20210507T190000
DTEND;TZID=America/New_York:20210507T220000
DTSTAMP:20260425T130311
CREATED:20210408T170613Z
LAST-MODIFIED:20210507T124358Z
UID:2111-1620414000-1620424800@dogtownroadhouse.com
SUMMARY:Cinco de Mayo w/ Solazo!
DESCRIPTION:**Table Ticket Event!** $15/seat sold by the table!\nJOIN US for a fun & festive Cinco de Mayo celebration with Solazo!!\nIncluding festive special food & drink menu items… with a special 10% OFF for all ticket holders!\nHailing from Argentina\, Chile\, Honduras\, and the US\, Solazo is performing a special Cinco de Mayo concert at Dogtown Roadhouse on Friday May 7th! Solazo is well known for their amazing Latin contemporary dance music… The treasure in Solazo’s distinctive music\, is cherished in many parts of South America and the US. Solazo delivers a unique blend of Latin contemporary dance music and soulful ballads that appeal to all ages and cultures. They play an exciting compilation of music inspired by traditional styles borrowed from Spain\, Cuba\, Argentina\, Chile\, Brazil and Ecuador. \nLayered with sensual Cuban rhythms and spiked with the unusual flavors of Andean sounds\, the unique and artful arrangements move fluidly from flamenco to mambo within the course of a single song\, creating a rare blend of Latin folk and dance music. The band’s sound is further distinguished by enchanting and pure vocal harmonies that consistently captivate the audience.
URL:https://dogtownroadhouse.com/event/cinco-de-mayo-w-solazo/
LOCATION:Dogtown Roadhouse\, 302 S Locust St\, Floyd\, VA\, 24091\, United States
CATEGORIES:Event Tickets
ATTACH;FMTTYPE=image/jpeg:https://dogtownroadhouse.com/wp-content/uploads/2021/04/dogtown-roadhouse-cinco-de-mayo-2021-copy-1.jpg
END:VEVENT
BEGIN:VEVENT
DTSTART;TZID=America/New_York:20210514T170000
DTEND;TZID=America/New_York:20210514T220000
DTSTAMP:20260425T130311
CREATED:20210427T235040Z
LAST-MODIFIED:20210513T162558Z
UID:2311-1621011600-1621029600@dogtownroadhouse.com
SUMMARY:Celebrating Mark Proctor: An Evening of Music & Community
DESCRIPTION:Please join us for a night of music\, community\, fundraising and celebration of Mark Proctor!\n3 live performances by some of Mark’s favorite local bands: \n\nJake Retting (5pm)\nFlirting with Chemicals (6:30pm)\nCC Coates Band (8pm)\n\nWe would like to establish a fund in his name\nThis is just one of the ways that we think is the best to celebrate Mark Proctor. On Friday May 14th we are dedicating a night to celebrate Mark and to establish an ongoing fund\, in Mark’s name\, to benefit local musicians who are on a dedicated path of music\, or who could use a helping hand to get on that path. Mark believed in creativity\, especially through music\, and we believe he would be honored to know his name will live on in this way. \nWe will be taking donations to establish a fund in Mark’s name that will benefit local musicians in their learning and growth. For this event\, 100% of donations will go to the Floyd local Handmade Music School: Share the Music scholarship programs – These incredible scholarships offer any person who cannot afford music learning opportunities the ability to do so by filling out a simple form requesting the funds for the program of their choice\, no questions asked. \n\nA donation Station will be on site through the night for you to make your contribution by cash or credit card. The night will be live streamed as well\, with links to donate online.\nAn online donation link will be offered throughout the live stream so that even if you cannot join us in person\, you can still make a donation in Mark’s name.\n\nDogtown will donate 20% of sales for the night if total donation goal of $2500 is reached!\n \nYou can donate online using this donation button at any time:\n\n\n\nA little about Mark…\nAt Dogtown\, there are certain community members that leave a “Mark” on our staff\, our customers\, and our business as a whole. Mark Proctor is one of them. Mark passed unexpectedly in February this year. He was a staple of our community and a long-time\, regular customer at Dogtown and ALWAYS quickly befriended our staff and our customers. His kind and warm hearted spirit had a special kind of humor that uplifted anyone he came in contact with\, young and old. He had a humble wisdom\, which he would always share with anyone who seemed interested to sit with him to talk. He loved the people of our community (old and new) and embraced them with so much respect and curiosity. He loved creativity and MUSIC – he rarely missed live music on our stage and happily showed his support for local music and the dedicated\, talented musicians who provide it to our sweet Floyd town.
URL:https://dogtownroadhouse.com/event/celebrating-mark-proctor-an-evening-of-music-community/
LOCATION:Dogtown Roadhouse\, 302 S Locust St\, Floyd\, VA\, 24091\, United States
CATEGORIES:Event Tickets,Events
ATTACH;FMTTYPE=image/jpeg:https://dogtownroadhouse.com/wp-content/uploads/2021/04/marksBenefit-copy-1.jpg
END:VEVENT
END:VCALENDAR