BEGIN:VCALENDAR
VERSION:2.0
PRODID:-//Dogtown Floyd, VA - ECPv6.15.20//NONSGML v1.0//EN
CALSCALE:GREGORIAN
METHOD:PUBLISH
X-WR-CALNAME:Dogtown Floyd, VA
X-ORIGINAL-URL:https://dogtownroadhouse.com
X-WR-CALDESC:Events for Dogtown Floyd, VA
REFRESH-INTERVAL;VALUE=DURATION:PT1H
X-Robots-Tag:noindex
X-PUBLISHED-TTL:PT1H
BEGIN:VTIMEZONE
TZID:America/New_York
BEGIN:DAYLIGHT
TZOFFSETFROM:-0500
TZOFFSETTO:-0400
TZNAME:EDT
DTSTART:20200308T070000
END:DAYLIGHT
BEGIN:STANDARD
TZOFFSETFROM:-0400
TZOFFSETTO:-0500
TZNAME:EST
DTSTART:20201101T060000
END:STANDARD
BEGIN:DAYLIGHT
TZOFFSETFROM:-0500
TZOFFSETTO:-0400
TZNAME:EDT
DTSTART:20210314T070000
END:DAYLIGHT
BEGIN:STANDARD
TZOFFSETFROM:-0400
TZOFFSETTO:-0500
TZNAME:EST
DTSTART:20211107T060000
END:STANDARD
BEGIN:DAYLIGHT
TZOFFSETFROM:-0500
TZOFFSETTO:-0400
TZNAME:EDT
DTSTART:20220313T070000
END:DAYLIGHT
BEGIN:STANDARD
TZOFFSETFROM:-0400
TZOFFSETTO:-0500
TZNAME:EST
DTSTART:20221106T060000
END:STANDARD
END:VTIMEZONE
BEGIN:VEVENT
DTSTART;TZID=America/New_York:20210417T190000
DTEND;TZID=America/New_York:20210417T220000
DTSTAMP:20260425T144021
CREATED:20210301T204526Z
LAST-MODIFIED:20210408T183603Z
UID:2102-1618686000-1618696800@dogtownroadhouse.com
SUMMARY:The Darkside Experience - SOLD OUT!
DESCRIPTION:***Tickets are SOLD OUT*** Our porch and upstairs dining space will still be available for non ticket holders (limited capacity\, first come\, first serve)!\n  \nThe sounds\, the music\, the lights\, the experience!\nTable ticket event! $25/person tickets sold by the table.\nTicket holders get 10% OFF food & drink for the night! Gather some friends to go in on a table and make a night of it!\n\nThis highly anticipated show is finally happening! Join us for an incredible night of masterfully covered Pink Floyd classics… and a light show to complete the full experience! This band ALWAYS leaves the audience in awe. \nThe Darkside Experience delivers the experience of Pink Floyd – cuts from Animals\, The Wall\, Wish You Were Here\, Dark Side of the Moon\, Meddle\, and more! The sounds\, the music\, the lights\, the experience! \nMore from the band: Pink Floyd has long resonated as one of the greatest pioneer groups in classic rock. The landscapes and dreams they generated with their music have touched numerous generations with a longevity that still finds new ears. Their songs have touched countless hearts\, shaped blissful experiences\, and etched memories deeply into our souls. \nThe Darkside was born out of a mutual love and respect for the music of Pink Floyd. \nThe band is excited to bring the life and experience of Pink Floyd’s music to the area in a live arena. The Darkside Experience includes some of the valley’s most talented musicians!\n\n\nFor this ticketed event\, we are offering 10% OFF food and drink to ticket holders only!\n2 seat table can seat up to 2 people \n3 seat table can seat up to 3 people \n4 seat table can seat up to 4 people \n6 seat table can seat up to 6 people \n8 seat table can seat up to 8 people
URL:https://dogtownroadhouse.com/event/the-darkside-experience/
LOCATION:Dogtown Roadhouse\, 302 S Locust St\, Floyd\, VA\, 24091\, United States
CATEGORIES:Event Tickets,Events
ATTACH;FMTTYPE=image/jpeg:https://dogtownroadhouse.com/wp-content/uploads/2021/03/darkside_experience_dogtown_roadhouse-1.jpg
END:VEVENT
END:VCALENDAR