BEGIN:VCALENDAR
VERSION:2.0
PRODID:-//Dogtown Floyd, VA - ECPv6.15.20//NONSGML v1.0//EN
CALSCALE:GREGORIAN
METHOD:PUBLISH
X-WR-CALNAME:Dogtown Floyd, VA
X-ORIGINAL-URL:https://dogtownroadhouse.com
X-WR-CALDESC:Events for Dogtown Floyd, VA
REFRESH-INTERVAL;VALUE=DURATION:PT1H
X-Robots-Tag:noindex
X-PUBLISHED-TTL:PT1H
BEGIN:VTIMEZONE
TZID:America/New_York
BEGIN:DAYLIGHT
TZOFFSETFROM:-0500
TZOFFSETTO:-0400
TZNAME:EDT
DTSTART:20190310T070000
END:DAYLIGHT
BEGIN:STANDARD
TZOFFSETFROM:-0400
TZOFFSETTO:-0500
TZNAME:EST
DTSTART:20191103T060000
END:STANDARD
BEGIN:DAYLIGHT
TZOFFSETFROM:-0500
TZOFFSETTO:-0400
TZNAME:EDT
DTSTART:20200308T070000
END:DAYLIGHT
BEGIN:STANDARD
TZOFFSETFROM:-0400
TZOFFSETTO:-0500
TZNAME:EST
DTSTART:20201101T060000
END:STANDARD
BEGIN:DAYLIGHT
TZOFFSETFROM:-0500
TZOFFSETTO:-0400
TZNAME:EDT
DTSTART:20210314T070000
END:DAYLIGHT
BEGIN:STANDARD
TZOFFSETFROM:-0400
TZOFFSETTO:-0500
TZNAME:EST
DTSTART:20211107T060000
END:STANDARD
END:VTIMEZONE
BEGIN:VEVENT
DTSTART;TZID=America/New_York:20201031T200000
DTEND;TZID=America/New_York:20201031T230000
DTSTAMP:20260425T223550
CREATED:20201006T174518Z
LAST-MODIFIED:20201022T142057Z
UID:997-1604174400-1604185200@dogtownroadhouse.com
SUMMARY:Halloween Party! MRCO Trio w/ Sol Roots + Drag Show!
DESCRIPTION:TABLE TICKETS ONLY! We have your health and safety at the top of our list. We can ensure that you will be seated with your group if we sell tickets by the table. Get your friends to go in on a table with you for a Halloween night show your group won’t forget! Please read the info below to learn our other policies for this event. \n**Music Road Co Trio w/ Sol Roots ** Drag Queens & Show ** Face Mask Competition** \nJoin us Halloween night for some fancy\, spooky\, funky fun! \nLIVE MUSIC! \nMusic Road Co Trio w/ Sol Roots! They’ll be bringin’ a genius combo of funky jams\, energetic rock\, raw blues\, greasy funk- and some deep soul! \nDRAG QUEENS & SHOW! \nThe ladies will be decked out to the TENS\, mingling and enchanting the audience while the music plays. Then they’ll do what they do SO well and put on a fabulous show! We have 3 of the area’s FINEST QUEENS performing: Jezzi Belle (Miss Gay Roanoke 2020-2021)\, The Amazon Rome (Miss Dish Icon)\, Holly Whatt (Miss Dish of Lynchburg)! \nFACE MASK COMPETITION! \nYes\, for everyone’s health and safety\, face masks are required\, but that can be PERFECT for Halloween! Get creative and decorate your face mask – the top 3 most creative win prizes! If you’re on your feet\, you must be wearing one – so we figured why not make it FUN – and give you a little reward for being so considerate ;-)! \nTHE EVENING’S TIMELINE \n8pm Band Showtime 1st set \n9pm Drag Show & Mask Winners Announced \n10pm Band goes back on for a 2nd set \n**THINGS TO KNOW \nTable tickets only. Due to COVID regulations\, we have limited capacity and we are selling our tickets by the table. Get your friends to go in on a table with you for a Halloween night show your group won’t forget! \nMask rules: When you are on your feet for any reason\, you MUST be wearing your mask. \nNon-ticket paying patrons are welcome to enjoy the porch and may walk through to use the restroom\, but will not be permitted to linger indoors for the show.
URL:https://dogtownroadhouse.com/event/halloween-party-mrco-trio-w-sol-roots-drag-show/
LOCATION:Dogtown Roadhouse\, 302 S Locust St\, Floyd\, VA\, 24091\, United States
CATEGORIES:Event Tickets
ATTACH;FMTTYPE=image/jpeg:https://dogtownroadhouse.com/wp-content/uploads/2020/10/Halloween2020-1.jpg
END:VEVENT
END:VCALENDAR